BEGIN:VCALENDAR
VERSION:2.0
PRODID:-//Tukios.com/
BEGIN:VEVENT
UID:c0954c23-b001-48d1-a539-3ba4a3f9bf36@www.muellerbies.com
DTSTAMP:20260422T220830Z
DTSTART:20260423T220000Z
DTEND:20260424T010000Z
SUMMARY:Visitation
DESCRIPTION:
URL:https://www.muellerbies.com/obituaries/alicia-villanueva
LOCATION: 2130 Dale St N  Roseville MN 55113
GEO:45.0053873;-93.1257268
END:VEVENT
END:VCALENDAR