BEGIN:VCALENDAR
VERSION:2.0
PRODID:-//Tukios.com/
BEGIN:VEVENT
UID:2f4ce039-09b5-46a4-bbd5-cb2602bf85b0@www.muellerbies.com
DTSTAMP:20260423T154631Z
DTSTART:20260509T150000Z
DTEND:20260509T180000Z
SUMMARY:Memorial Gathering
DESCRIPTION:
URL:https://www.muellerbies.com/obituaries/audrey-metz
LOCATION: 7050 Lake Dr  Lino Lakes MN 55014
GEO:45.1619758;-93.1232248
END:VEVENT
END:VCALENDAR