BEGIN:VCALENDAR
VERSION:2.0
PRODID:-//Tukios.com/
BEGIN:VEVENT
UID:0aa05b5a-c09b-44c9-9df2-a05c5d87103b@www.muellerbies.com
DTSTAMP:20260424T020745Z
DTSTART:20260430T210000Z
DTEND:20260501T000000Z
SUMMARY:Visitation
DESCRIPTION:
URL:https://www.muellerbies.com/obituaries/carol-turnquist-lefto
LOCATION:Mueller-Bies Funeral Home 2130 Dale Street North  Roseville MN 
	55113
GEO:45.0053356;-93.1256703
END:VEVENT
END:VCALENDAR