BEGIN:VCALENDAR
VERSION:2.0
PRODID:-//Tukios.com/
BEGIN:VEVENT
UID:110d2558-1184-4cc2-8830-7863f079af88@www.muellerbies.com
DTSTAMP:20260424T020002Z
DTSTART:20260501T150000Z
DTEND:20260501T160000Z
SUMMARY:Visitation
DESCRIPTION:
URL:https://www.muellerbies.com/obituaries/carol-turnquist-lefto
LOCATION:Mueller-Bies Funeral Home 2130 Dale Street North  Roseville MN 
	55113
GEO:45.0053356;-93.1256703
END:VEVENT
END:VCALENDAR