BEGIN:VCALENDAR
VERSION:2.0
PRODID:-//Tukios.com/
BEGIN:VEVENT
UID:f632133e-8749-4120-8d8e-7bb9c69b81b1@www.muellerbies.com
DTSTAMP:20260424T020854Z
DTSTART:20260501T160000Z
DTEND:20260501T170000Z
SUMMARY:Funeral Service
DESCRIPTION:
URL:https://www.muellerbies.com/obituaries/carol-turnquist-lefto
LOCATION:Mueller-Bies Funeral Home 2130 Dale Street North  Roseville MN 
	55113
GEO:45.0053356;-93.1256703
END:VEVENT
END:VCALENDAR