BEGIN:VCALENDAR
VERSION:2.0
PRODID:-//Tukios.com/
BEGIN:VEVENT
UID:cd70e070-7d4a-4ad5-aa18-67c00e7f0df7@www.muellerbies.com
DTSTAMP:20260422T095308Z
DTSTART:20260427T150000Z
DTEND:20260427T160000Z
SUMMARY:Visitation
DESCRIPTION:
URL:https://www.muellerbies.com/obituaries/james-decarlo
LOCATION:Mueller-Bies Funeral Home-Roseville 2130 Dale Street North  
	Roseville MN 55113
GEO:45.0053356;-93.1256703
END:VEVENT
END:VCALENDAR