BEGIN:VCALENDAR
VERSION:2.0
PRODID:-//Tukios.com/
BEGIN:VEVENT
UID:b41b7cea-fb37-472e-8b18-bc5bd5056432@www.muellerbies.com
DTSTAMP:20260422T095911Z
DTSTART:20260427T160000Z
DTEND:20260427T170000Z
SUMMARY:Funeral Service
DESCRIPTION:
URL:https://www.muellerbies.com/obituaries/james-decarlo
LOCATION:Mueller-Bies Funeral Home-Roseville 2130 Dale Street North  
	Roseville MN 55113
GEO:45.0053356;-93.1256703
END:VEVENT
END:VCALENDAR