BEGIN:VCALENDAR
VERSION:2.0
PRODID:-//Tukios.com/
BEGIN:VEVENT
UID:b9106772-48f6-4330-97d6-9d17620e03e3@www.muellerbies.com
DTSTAMP:20260421T064833Z
DTSTART:20260428T160000Z
DTEND:20260428T170000Z
SUMMARY:Graveside Service
DESCRIPTION:
URL:https://www.muellerbies.com/obituaries/janet-straumann
LOCATION:North Isanti Baptist Cemetery 2248 313th Avenue Northeast  
	Cambridge MN 55008
GEO:45.5362152;-93.2140887
END:VEVENT
END:VCALENDAR