BEGIN:VCALENDAR
VERSION:2.0
PRODID:-//Tukios.com/
BEGIN:VEVENT
UID:e995f827-f906-439f-800d-043235cf7993@www.muellerbies.com
DTSTAMP:20260421T063409Z
DTSTART:20260427T210000Z
DTEND:20260428T000000Z
SUMMARY:Visitation
DESCRIPTION:
URL:https://www.muellerbies.com/obituaries/janet-straumann
LOCATION:Mueller-Bies Funeral Home-Roseville 2130 Dale Street North  
	Roseville MN 55113
GEO:45.0053356;-93.1256703
END:VEVENT
END:VCALENDAR