BEGIN:VCALENDAR
VERSION:2.0
PRODID:-//Tukios.com/
BEGIN:VEVENT
UID:ebaf442d-d658-420a-be35-3292f04dd711@www.muellerbies.com
DTSTAMP:20260423T210531Z
DTSTART:20260503T190000Z
DTEND:20260503T220000Z
SUMMARY:Visitation
DESCRIPTION:
URL:https://www.muellerbies.com/obituaries/john-ernster
LOCATION:Mueller-Bies Funeral Home-Roseville 2130 Dale Street North  
	Roseville MN 55113
GEO:45.0053356;-93.1256703
END:VEVENT
END:VCALENDAR