BEGIN:VCALENDAR
VERSION:2.0
PRODID:-//Tukios.com/
BEGIN:VEVENT
UID:96f5a636-8d1b-4ce3-a7f6-580773e72bff@www.muellerbies.com
DTSTAMP:20260423T212151Z
DTSTART:20260504T150000Z
DTEND:20260504T160000Z
SUMMARY:Visitation
DESCRIPTION:
URL:https://www.muellerbies.com/obituaries/john-ernster
LOCATION:The Church of St. Agnes 548 Lafond Avenue  Saint Paul MN 55103
GEO:44.9596014;-93.123657
END:VEVENT
END:VCALENDAR