BEGIN:VCALENDAR
VERSION:2.0
PRODID:-//Tukios.com/
BEGIN:VEVENT
UID:e8d4165e-9cbb-482d-904f-a8b6acf86575@www.muellerbies.com
DTSTAMP:20260423T211320Z
DTSTART:20260504T160000Z
DTEND:20260504T170000Z
SUMMARY:Mass
DESCRIPTION:
URL:https://www.muellerbies.com/obituaries/john-ernster
LOCATION:The Church of St. Agnes 548 Lafond Avenue  Saint Paul MN 55103
GEO:44.9596014;-93.123657
END:VEVENT
END:VCALENDAR