BEGIN:VCALENDAR
VERSION:2.0
PRODID:-//Tukios.com/
BEGIN:VEVENT
UID:3c315e12-6c0f-4689-8453-39f9c511b1d6@www.muellerbies.com
DTSTAMP:20260420T003619Z
DTSTART:20260422T210000Z
DTEND:20260423T000000Z
SUMMARY:Visitation
DESCRIPTION:
URL:https://www.muellerbies.com/obituaries/jose-lopez-sr
LOCATION: 2130 Dale St N  Roseville MN 55113
GEO:45.0053873;-93.1257268
END:VEVENT
END:VCALENDAR