BEGIN:VCALENDAR
VERSION:2.0
PRODID:-//Tukios.com/
BEGIN:VEVENT
UID:5583a688-f7aa-49c1-9363-3f6b04b3438b@www.muellerbies.com
DTSTAMP:20260420T005541Z
DTSTART:20260423T150000Z
DTEND:20260423T160000Z
SUMMARY:Visitation
DESCRIPTION:
URL:https://www.muellerbies.com/obituaries/jose-lopez-sr
LOCATION: 1583 Radio Dr  Woodbury MN 55125
GEO:44.9260074;-92.9329351
END:VEVENT
END:VCALENDAR