BEGIN:VCALENDAR
VERSION:2.0
PRODID:-//Tukios.com/
BEGIN:VEVENT
UID:68293fea-461c-4340-816c-e11a1996b26d@www.muellerbies.com
DTSTAMP:20260420T010502Z
DTSTART:20260423T160000Z
DTEND:20260423T170000Z
SUMMARY:Funeral Service
DESCRIPTION:
URL:https://www.muellerbies.com/obituaries/jose-lopez-sr
LOCATION: 1583 Radio Dr  Woodbury MN 55125
GEO:44.9260074;-92.9329351
END:VEVENT
END:VCALENDAR