BEGIN:VCALENDAR
VERSION:2.0
PRODID:-//Tukios.com/
BEGIN:VEVENT
UID:546febf6-7dac-4f05-ba8f-f96c1b1da143@www.muellerbies.com
DTSTAMP:20260424T204351Z
DTSTART:20260429T160000Z
DTEND:20260429T170000Z
SUMMARY:Funeral Service
DESCRIPTION:
URL:https://www.muellerbies.com/obituaries/justin-hardee
LOCATION:Mueller-Bies Funeral Home-Lino Lakes 7050 Lake Drive  Lino Lakes 
	MN 55014
GEO:45.1619703;-93.1231869
END:VEVENT
END:VCALENDAR