BEGIN:VCALENDAR
VERSION:2.0
PRODID:-//Tukios.com/
BEGIN:VEVENT
UID:9bb21ef5-46e8-4ed5-8ee8-ce95334efe2f@www.muellerbies.com
DTSTAMP:20260424T204325Z
DTSTART:20260429T150000Z
DTEND:20260429T160000Z
SUMMARY:Visitation
DESCRIPTION:
URL:https://www.muellerbies.com/obituaries/justin-hardee
LOCATION:Mueller-Bies Funeral Home-Lino Lakes 7050 Lake Drive  Lino Lakes 
	MN 55014
GEO:45.1619703;-93.1231869
END:VEVENT
END:VCALENDAR