BEGIN:VCALENDAR
VERSION:2.0
PRODID:-//Tukios.com/
BEGIN:VEVENT
UID:eeb78fc8-2812-4496-9d9b-dcff7acac9ff@www.muellerbies.com
DTSTAMP:20260423T025644Z
DTSTART:20260501T210000Z
DTEND:20260501T230000Z
SUMMARY:Celebration of Life
DESCRIPTION:
URL:https://www.muellerbies.com/obituaries/linda-stowell
LOCATION: 2130 Dale St N  Roseville MN 55113
GEO:45.0053873;-93.1257268
END:VEVENT
END:VCALENDAR