BEGIN:VCALENDAR
VERSION:2.0
PRODID:-//Tukios.com/
BEGIN:VEVENT
UID:4b55af63-008b-404c-a74f-9bb0c5676965@www.muellerbies.com
DTSTAMP:20260423T032523Z
DTSTART:20260428T210000Z
DTEND:20260429T000000Z
SUMMARY:Visitation
DESCRIPTION:
URL:https://www.muellerbies.com/obituaries/robert-killen
LOCATION:Mueller-Bies Funeral Home (Roseville) 2130 Dale Street North  
	Roseville MN 55113
GEO:45.0053356;-93.1256703
END:VEVENT
END:VCALENDAR