BEGIN:VCALENDAR
VERSION:2.0
PRODID:-//Tukios.com/
BEGIN:VEVENT
UID:76de9d3e-39e2-498a-9abd-44ecf325595b@www.muellerbies.com
DTSTAMP:20260423T032524Z
DTSTART:20260429T140000Z
DTEND:20260429T150000Z
SUMMARY:Visitation
DESCRIPTION:
URL:https://www.muellerbies.com/obituaries/robert-killen
LOCATION:St. John Neumann Catholic Church 4030 Pilot Knob Road  Eagan MN 
	55122
GEO:44.8103667;-93.1653933
END:VEVENT
END:VCALENDAR