BEGIN:VCALENDAR
VERSION:2.0
PRODID:-//Tukios.com/
BEGIN:VEVENT
UID:7c5b9460-27e0-46e5-8668-a0f0b3059bb9@www.muellerbies.com
DTSTAMP:20260423T033434Z
DTSTART:20260429T150000Z
DTEND:20260429T160000Z
SUMMARY:Mass
DESCRIPTION:
URL:https://www.muellerbies.com/obituaries/robert-killen
LOCATION:St. John Neumann Catholic Church 4030 Pilot Knob Road  Eagan MN 
	55122
GEO:44.8103667;-93.1653933
END:VEVENT
END:VCALENDAR